BEGIN:VCALENDAR
VERSION:2.0
PRODID:-//YSBD Theatre Academy - ECPv6.15.20//NONSGML v1.0//EN
CALSCALE:GREGORIAN
METHOD:PUBLISH
X-ORIGINAL-URL:https://ysbdtheatreacademy.com
X-WR-CALDESC:Events for YSBD Theatre Academy
REFRESH-INTERVAL;VALUE=DURATION:PT1H
X-Robots-Tag:noindex
X-PUBLISHED-TTL:PT1H
BEGIN:VTIMEZONE
TZID:UTC
BEGIN:STANDARD
TZOFFSETFROM:+0000
TZOFFSETTO:+0000
TZNAME:UTC
DTSTART:20240101T000000
END:STANDARD
END:VTIMEZONE
BEGIN:VEVENT
DTSTART;VALUE=DATE:20250601
DTEND;VALUE=DATE:20250602
DTSTAMP:20260423T110456
CREATED:20240901T191157Z
LAST-MODIFIED:20240901T191157Z
UID:10000027-1748736000-1748822399@ysbdtheatreacademy.com
SUMMARY:Half term (no classes)
DESCRIPTION:
URL:https://ysbdtheatreacademy.com/event/half-term-no-classes-5/
END:VEVENT
BEGIN:VEVENT
DTSTART;TZID=UTC:20250628T090000
DTEND;TZID=UTC:20250628T103000
DTSTAMP:20260423T110456
CREATED:20250317T094500Z
LAST-MODIFIED:20250317T094500Z
UID:10000032-1751101200-1751106600@ysbdtheatreacademy.com
SUMMARY:Extra Romiley Show Rehearsals for Little Stars
DESCRIPTION:
URL:https://ysbdtheatreacademy.com/event/extra-romiley-show-rehearsals-for-little-stars/
END:VEVENT
BEGIN:VEVENT
DTSTART;TZID=UTC:20250628T110000
DTEND;TZID=UTC:20250628T140000
DTSTAMP:20260423T110456
CREATED:20250317T094632Z
LAST-MODIFIED:20250317T094632Z
UID:10000033-1751108400-1751119200@ysbdtheatreacademy.com
SUMMARY:Extra Romiley Show Rehearsals for Main School (Singing & Dance Students Only)
DESCRIPTION:Saturday musical theatre classes and street dance
URL:https://ysbdtheatreacademy.com/event/extra-romiley-show-rehearsals-for-main-school-singing-dance-students-only/
END:VEVENT
BEGIN:VEVENT
DTSTART;VALUE=DATE:20250629
DTEND;VALUE=DATE:20250630
DTSTAMP:20260423T110456
CREATED:20240901T191227Z
LAST-MODIFIED:20240901T191227Z
UID:10000028-1751155200-1751241599@ysbdtheatreacademy.com
SUMMARY:The Forum Theatre Showcases (Little Stars\, Musical Theatre and Main School)
DESCRIPTION:
URL:https://ysbdtheatreacademy.com/event/the-forum-theatre-showcases-little-stars-musical-theatre-and-main-school/
END:VEVENT
END:VCALENDAR